BEGIN:VCALENDAR
VERSION:2.0
PRODID:-//FC1869//CS
BEGIN:VEVENT
DTSTAMP:20260419T130638Z
DTSTART:20251111T170000Z
DTEND:20251111T180000Z
SUMMARY:9. Patočkova brána FC - Netopýr TFC
LOCATION:HRAB1
UID:69e4d35eebe97@FC1869
END:VEVENT
END:VCALENDAR