BEGIN:VCALENDAR
VERSION:2.0
PRODID:-//FC1869//CS
BEGIN:VEVENT
DTSTAMP:20260419T130909Z
DTSTART:20251111T171500Z
DTEND:20251111T181500Z
SUMMARY:9. FC 1869 - Buccaneers FC
LOCATION:STER3
UID:69e4d3f563e42@FC1869
END:VEVENT
END:VCALENDAR