BEGIN:VCALENDAR
VERSION:2.0
PRODID:-//FC1869//CS
BEGIN:VEVENT
DTSTAMP:20260419T130430Z
DTSTART:20251111T171500Z
DTEND:20251111T181500Z
SUMMARY:9. Dynamo Warriors FC - Sudetské lopaty
LOCATION:ARIT
UID:69e4d2de80ec5@FC1869
END:VEVENT
END:VCALENDAR