BEGIN:VCALENDAR
VERSION:2.0
PRODID:-//FC1869//CS
BEGIN:VEVENT
DTSTAMP:20260419T130455Z
DTSTART:20251111T183000Z
DTEND:20251111T193000Z
SUMMARY:9. Pětka - Emergency
LOCATION:DEKAN
UID:69e4d2f78c864@FC1869
END:VEVENT
END:VCALENDAR