BEGIN:VCALENDAR
VERSION:2.0
PRODID:-//FC1869//CS
BEGIN:VEVENT
DTSTAMP:20260419T130545Z
DTSTART:20251111T194500Z
DTEND:20251111T204500Z
SUMMARY:9. Metráčci - Medvědi A
LOCATION:P1
UID:69e4d329ae03c@FC1869
END:VEVENT
END:VCALENDAR