BEGIN:VCALENDAR
VERSION:2.0
PRODID:-//FC1869//CS
BEGIN:VEVENT
DTSTAMP:20260419T115413Z
DTSTART:20251112T191500Z
DTEND:20251112T201500Z
SUMMARY:9. TJ Bohemia Chips 1980 - Píchy Blinders FC
LOCATION:BRAN2
UID:69e4c265c2d49@FC1869
END:VEVENT
END:VCALENDAR