BEGIN:VCALENDAR
VERSION:2.0
PRODID:-//FC1869//CS
BEGIN:VEVENT
DTSTAMP:20260419T130846Z
DTSTART:20251118T170000Z
DTEND:20251118T180000Z
SUMMARY:10. Netopýr TFC - Pětka
LOCATION:HRAB1
UID:69e4d3de47991@FC1869
END:VEVENT
END:VCALENDAR