BEGIN:VCALENDAR
VERSION:2.0
PRODID:-//FC1869//CS
BEGIN:VEVENT
DTSTAMP:20260419T130711Z
DTSTART:20251118T171500Z
DTEND:20251118T181500Z
SUMMARY:10. Emergency - TJ Bohemia Chips 1980
LOCATION:DEKAN
UID:69e4d37fe2362@FC1869
END:VEVENT
END:VCALENDAR