BEGIN:VCALENDAR
VERSION:2.0
PRODID:-//FC1869//CS
BEGIN:VEVENT
DTSTAMP:20260419T130637Z
DTSTART:20251118T194500Z
DTEND:20251118T204500Z
SUMMARY:10. Medvědi A - Patočkova brána FC
LOCATION:P1
UID:69e4d35d2be43@FC1869
END:VEVENT
END:VCALENDAR