BEGIN:VCALENDAR
VERSION:2.0
PRODID:-//FC1869//CS
BEGIN:VEVENT
DTSTAMP:20260419T130908Z
DTSTART:20251118T194500Z
DTEND:20251118T204500Z
SUMMARY:10. Buccaneers FC - Metráčci
LOCATION:CESMI
UID:69e4d3f4c071f@FC1869
END:VEVENT
END:VCALENDAR