BEGIN:VCALENDAR
VERSION:2.0
PRODID:-//FC1869//CS
BEGIN:VEVENT
DTSTAMP:20260419T130557Z
DTSTART:20251202T183000Z
DTEND:20251202T193000Z
SUMMARY:11. Patočkova brána FC - Buccaneers FC
LOCATION:CESMI
UID:69e4d3359cbfb@FC1869
END:VEVENT
END:VCALENDAR