BEGIN:VCALENDAR
VERSION:2.0
PRODID:-//FC1869//CS
BEGIN:VEVENT
DTSTAMP:20260419T130455Z
DTSTART:20251202T183000Z
DTEND:20251202T193000Z
SUMMARY:11. Píchy Blinders FC - Emergency
LOCATION:DEKAN
UID:69e4d2f712f55@FC1869
END:VEVENT
END:VCALENDAR