BEGIN:VCALENDAR
VERSION:2.0
PRODID:-//FC1869//CS
BEGIN:VEVENT
DTSTAMP:20260419T130847Z
DTSTART:20251202T183000Z
DTEND:20251202T193000Z
SUMMARY:11. Pětka - Medvědi A
LOCATION:P3
UID:69e4d3dfac2b7@FC1869
END:VEVENT
END:VCALENDAR