BEGIN:VCALENDAR
VERSION:2.0
PRODID:-//FC1869//CS
BEGIN:VEVENT
DTSTAMP:20260419T130545Z
DTSTART:20251202T184500Z
DTEND:20251202T194500Z
SUMMARY:11. TJ Bohemia Chips 1980 - Netopýr TFC
LOCATION:MIKU4
UID:69e4d3298cef7@FC1869
END:VEVENT
END:VCALENDAR