BEGIN:VCALENDAR
VERSION:2.0
PRODID:-//FC1869//CS
BEGIN:VEVENT
DTSTAMP:20260419T124442Z
DTSTART:20080603T173000Z
DTEND:20080603T183000Z
SUMMARY:Pískání (HL 6. E Baník Bohuliby HFC - Modrá vopice TJ)
LOCATION:HAGI1
UID:69e4ce3a534da@FC1869
END:VEVENT
END:VCALENDAR