BEGIN:VCALENDAR
VERSION:2.0
PRODID:-//FC1869//CS
BEGIN:VEVENT
DTSTAMP:20260419T124146Z
DTSTART:20090411T064500Z
DTEND:20090411T074500Z
SUMMARY:3. ALT 1. AK - New Jersey Devils B  ! možná kolize barvy dresů !
LOCATION:P2
UID:69e4cd8a9c825@FC1869
END:VEVENT
END:VCALENDAR