BEGIN:VCALENDAR
VERSION:2.0
PRODID:-//FC1869//CS
BEGIN:VEVENT
DTSTAMP:20260419T124354Z
DTSTART:20080613T170000Z
DTEND:20080613T180000Z
SUMMARY:Pískání (HL 5. E Guatemalské ještěrky - Chroustova lokomotiva)
LOCATION:P2
UID:69e4ce0adfe7a@FC1869
END:VEVENT
END:VCALENDAR