BEGIN:VCALENDAR
VERSION:2.0
PRODID:-//FC1869//CS
BEGIN:VEVENT
DTSTAMP:20260419T124355Z
DTSTART:20080613T181500Z
DTEND:20080613T191500Z
SUMMARY:Pískání (HL 5. E Žlutá křídla - Torpédo Hulín FC)
LOCATION:P2
UID:69e4ce0b65d4b@FC1869
END:VEVENT
END:VCALENDAR