BEGIN:VCALENDAR
VERSION:2.0
PRODID:-//FC1869//CS
BEGIN:VEVENT
DTSTAMP:20260419T124155Z
DTSTART:20090508T064500Z
DTEND:20090508T074500Z
SUMMARY:7. ALT 1. AK - Alej FK B
LOCATION:DEKAN
UID:69e4cd931ce18@FC1869
END:VEVENT
END:VCALENDAR