BEGIN:VCALENDAR
VERSION:2.0
PRODID:-//FC1869//CS
BEGIN:VEVENT
DTSTAMP:20260419T124343Z
DTSTART:20090425T103000Z
DTEND:20090425T113000Z
SUMMARY:5. ALT 1. AK - Ivánkovy děti
LOCATION:P3
UID:69e4cdffd7713@FC1869
END:VEVENT
END:VCALENDAR