BEGIN:VCALENDAR
VERSION:2.0
PRODID:-//FC1869//CS
BEGIN:VEVENT
DTSTAMP:20260419T121849Z
DTSTART:20020903T150000Z
DTEND:20020903T160000Z
SUMMARY:1. Pod lesem FC - FC 1869
LOCATION:ANG
UID:69e4c82996cc4@FC1869
END:VEVENT
END:VCALENDAR