BEGIN:VCALENDAR
VERSION:2.0
PRODID:-//FC1869//CS
BEGIN:VEVENT
DTSTAMP:20260419T121838Z
DTSTART:20020909T160000Z
DTEND:20020909T170000Z
SUMMARY:2. Podolka FC - FC 1869
LOCATION:PERT
UID:69e4c81ebd0f6@FC1869
END:VEVENT
END:VCALENDAR