BEGIN:VCALENDAR
VERSION:2.0
PRODID:-//FC1869//CS
BEGIN:VEVENT
DTSTAMP:20260419T121839Z
DTSTART:20020916T154500Z
DTEND:20020916T164500Z
SUMMARY:3. FC 1869 - Pohoda SK
LOCATION:S2
UID:69e4c81f42c9a@FC1869
END:VEVENT
END:VCALENDAR