BEGIN:VCALENDAR
VERSION:2.0
PRODID:-//FC1869//CS
BEGIN:VEVENT
DTSTAMP:20260419T121838Z
DTSTART:20020924T154500Z
DTEND:20020924T164500Z
SUMMARY:4. Dynamo Beránek - FC 1869
LOCATION:PERT
UID:69e4c81e42210@FC1869
END:VEVENT
END:VCALENDAR