BEGIN:VCALENDAR
VERSION:2.0
PRODID:-//FC1869//CS
BEGIN:VEVENT
DTSTAMP:20260419T134518Z
DTSTART:20021005T114500Z
DTEND:20021005T124500Z
SUMMARY:5. FC 1869 - Baník Bohuliby HFC
LOCATION:K2
UID:69e4dc6e7d5eb@FC1869
END:VEVENT
END:VCALENDAR