BEGIN:VCALENDAR
VERSION:2.0
PRODID:-//FC1869//CS
BEGIN:VEVENT
DTSTAMP:20260419T134610Z
DTSTART:20021012T141500Z
DTEND:20021012T151500Z
SUMMARY:6. EKIS Praha - FC 1869
LOCATION:KBELY
UID:69e4dca218db4@FC1869
END:VEVENT
END:VCALENDAR