BEGIN:VCALENDAR
VERSION:2.0
PRODID:-//FC1869//CS
BEGIN:VEVENT
DTSTAMP:20260419T134610Z
DTSTART:20021019T114500Z
DTEND:20021019T124500Z
SUMMARY:7. FC 1869 - Sparta Popularos
LOCATION:ANG
UID:69e4dca2945f3@FC1869
END:VEVENT
END:VCALENDAR