BEGIN:VCALENDAR
VERSION:2.0
PRODID:-//FC1869//CS
BEGIN:VEVENT
DTSTAMP:20260419T134609Z
DTSTART:20021026T114500Z
DTEND:20021026T124500Z
SUMMARY:8. FC 1869 - Indiana Team  ! možná kolize barvy dresů !
LOCATION:CIS
UID:69e4dca1b2fe2@FC1869
END:VEVENT
END:VCALENDAR