BEGIN:VCALENDAR
VERSION:2.0
PRODID:-//FC1869//CS
BEGIN:VEVENT
DTSTAMP:20260419T134518Z
DTSTART:20021109T124500Z
DTEND:20021109T134500Z
SUMMARY:9. Kmochův odkaz - FC 1869
LOCATION:K4
UID:69e4dc6e91995@FC1869
END:VEVENT
END:VCALENDAR