BEGIN:VCALENDAR
VERSION:2.0
PRODID:-//FC1869//CS
BEGIN:VEVENT
DTSTAMP:20260419T134610Z
DTSTART:20021123T101500Z
DTEND:20021123T111500Z
SUMMARY:10. FC 1869 - Matrix
LOCATION:HRD1
UID:69e4dca26042a@FC1869
END:VEVENT
END:VCALENDAR