BEGIN:VCALENDAR
VERSION:2.0
PRODID:-//FC1869//CS
BEGIN:VEVENT
DTSTAMP:20260419T134518Z
DTSTART:20021207T113000Z
DTEND:20021207T123000Z
SUMMARY:11. Limita - FC 1869
LOCATION:K3
UID:69e4dc6e4677f@FC1869
END:VEVENT
END:VCALENDAR