BEGIN:VCALENDAR
VERSION:2.0
PRODID:-//FC1869//CS
BEGIN:VEVENT
DTSTAMP:20260419T124146Z
DTSTART:20081004T080000Z
DTEND:20081004T090000Z
SUMMARY:4. Relax-FC - Morová rána 1. FC
LOCATION:ALBRE
UID:69e4cd8aa82e2@FC1869
END:VEVENT
END:VCALENDAR