BEGIN:VCALENDAR
VERSION:2.0
PRODID:-//FC1869//CS
BEGIN:VEVENT
DTSTAMP:20260419T124200Z
DTSTART:20081025T080000Z
DTEND:20081025T090000Z
SUMMARY:7. Morová rána 1. FC - Blue flame  ! možná kolize barvy dresů !
LOCATION:ZARUB
UID:69e4cd98a342f@FC1869
END:VEVENT
END:VCALENDAR