BEGIN:VCALENDAR
VERSION:2.0
PRODID:-//FC1869//CS
BEGIN:VEVENT
DTSTAMP:20260419T124146Z
DTSTART:20081206T074500Z
DTEND:20081206T084500Z
SUMMARY:11. Morová rána 1. FC - Výtržník HFC
LOCATION:ZARUB
UID:69e4cd8a85f43@FC1869
END:VEVENT
END:VCALENDAR