BEGIN:VCALENDAR
VERSION:2.0
PRODID:-//FC1869//CS
BEGIN:VEVENT
DTSTAMP:20260419T200629Z
DTSTART:20120914T170000Z
DTEND:20120914T180000Z
SUMMARY:1. Na zdraví p. Macháčka - Pěstební dělnice  ! možná kolize barvy dresů !
LOCATION:STER1
UID:69e535c57e3c4@FC1869
END:VEVENT
END:VCALENDAR