BEGIN:VCALENDAR
VERSION:2.0
PRODID:-//FC1869//CS
BEGIN:VEVENT
DTSTAMP:20260419T200052Z
DTSTART:20121019T184500Z
DTEND:20121019T194500Z
SUMMARY:5. Pěstební dělnice - La Masia
LOCATION:DEKAN
UID:69e534748c4f1@FC1869
END:VEVENT
END:VCALENDAR