BEGIN:VCALENDAR
VERSION:2.0
PRODID:-//FC1869//CS
BEGIN:VEVENT
DTSTAMP:20260419T195649Z
DTSTART:20121026T161500Z
DTEND:20121026T171500Z
SUMMARY:6. Sparta Pivaři AC - Pěstební dělnice  ! možná kolize barvy dresů !
LOCATION:HOSTI
UID:69e53381b6f4e@FC1869
END:VEVENT
END:VCALENDAR