BEGIN:VCALENDAR
VERSION:2.0
PRODID:-//FC1869//CS
BEGIN:VEVENT
DTSTAMP:20260419T200138Z
DTSTART:20130329T181500Z
DTEND:20130329T191500Z
SUMMARY:1. FC 1869 - Pěstební dělnice  ! možná kolize barvy dresů !
LOCATION:P1
UID:69e534a20c75d@FC1869
END:VEVENT
END:VCALENDAR