BEGIN:VCALENDAR
VERSION:2.0
PRODID:-//FC1869//CS
BEGIN:VEVENT
DTSTAMP:20260419T085241Z
DTSTART:20070526T114500Z
DTEND:20070526T124500Z
SUMMARY:8. Alvarez D. C. - FC 1869
LOCATION:P2
UID:69e497d9046ef@FC1869
END:VEVENT
END:VCALENDAR