BEGIN:VCALENDAR
VERSION:2.0
PRODID:-//FC1869//CS
BEGIN:VEVENT
DTSTAMP:20260419T195811Z
DTSTART:20130419T161500Z
DTEND:20130419T171500Z
SUMMARY:4. Sparta Pivaři AC - Pěstební dělnice  ! možná kolize barvy dresů !
LOCATION:HOSTI
UID:69e533d339154@FC1869
END:VEVENT
END:VCALENDAR