BEGIN:VCALENDAR
VERSION:2.0
PRODID:-//FC1869//CS
BEGIN:VEVENT
DTSTAMP:20260419T200143Z
DTSTART:20130426T160000Z
DTEND:20130426T170000Z
SUMMARY:5. Pěstební dělnice - Power Rangers
LOCATION:P3
UID:69e534a7894be@FC1869
END:VEVENT
END:VCALENDAR