BEGIN:VCALENDAR
VERSION:2.0
PRODID:-//FC1869//CS
BEGIN:VEVENT
DTSTAMP:20260419T085242Z
DTSTART:20070609T130000Z
DTEND:20070609T140000Z
SUMMARY:10. Delivery FC - FC 1869
LOCATION:ZARUB
UID:69e497da0b935@FC1869
END:VEVENT
END:VCALENDAR