BEGIN:VCALENDAR
VERSION:2.0
PRODID:-//FC1869//CS
BEGIN:VEVENT
DTSTAMP:20260419T195852Z
DTSTART:20130503T183000Z
DTEND:20130503T193000Z
SUMMARY:6. Pradox 1. FC - Pěstební dělnice  ! možná kolize barvy dresů !
LOCATION:ZAK
UID:69e533fcd12bd@FC1869
END:VEVENT
END:VCALENDAR