BEGIN:VCALENDAR
VERSION:2.0
PRODID:-//FC1869//CS
BEGIN:VEVENT
DTSTAMP:20260419T085241Z
DTSTART:20070623T103000Z
DTEND:20070623T113000Z
SUMMARY:11. FC 1869 - Diesel 1. FC
LOCATION:PODVI
UID:69e497d904bc0@FC1869
END:VEVENT
END:VCALENDAR