BEGIN:VCALENDAR
VERSION:2.0
PRODID:-//FC1869//CS
BEGIN:VEVENT
DTSTAMP:20260419T200429Z
DTSTART:20130510T173000Z
DTEND:20130510T183000Z
SUMMARY:7. Pěstební dělnice - President FC
LOCATION:PRKOP
UID:69e5354dc7eef@FC1869
END:VEVENT
END:VCALENDAR