BEGIN:VCALENDAR
VERSION:2.0
PRODID:-//FC1869//CS
BEGIN:VEVENT
DTSTAMP:20260419T215520Z
DTSTART:20130517T161500Z
DTEND:20130517T171500Z
SUMMARY:8. 64! FC Kobylisy - Pěstební dělnice  ! možná kolize barvy dresů !
LOCATION:HANSP
UID:69e54f4834471@FC1869
END:VEVENT
END:VCALENDAR