BEGIN:VCALENDAR
VERSION:2.0
PRODID:-//FC1869//CS
BEGIN:VEVENT
DTSTAMP:20260419T200052Z
DTSTART:20130531T161500Z
DTEND:20130531T171500Z
SUMMARY:10. Dukla Praha FK - Pěstební dělnice  ! možná kolize barvy dresů !
LOCATION:DEKAN
UID:69e534741cf4e@FC1869
END:VEVENT
END:VCALENDAR