BEGIN:VCALENDAR
VERSION:2.0
PRODID:-//FC1869//CS
BEGIN:VEVENT
DTSTAMP:20260419T200138Z
DTSTART:20130614T171500Z
DTEND:20130614T181500Z
SUMMARY:11. Pěstební dělnice - Efficenza AC
LOCATION:ZAK
UID:69e534a20d460@FC1869
END:VEVENT
END:VCALENDAR