BEGIN:VCALENDAR
VERSION:2.0
PRODID:-//FC1869//CS
BEGIN:VEVENT
DTSTAMP:20260419T190920Z
DTSTART:20050514T091500Z
DTEND:20050514T101500Z
SUMMARY:7. Hoptajch team - FC 1869
LOCATION:HRD1
UID:69e52860238a4@FC1869
END:VEVENT
END:VCALENDAR