BEGIN:VCALENDAR
VERSION:2.0
PRODID:-//FC1869//CS
BEGIN:VEVENT
DTSTAMP:20260419T173112Z
DTSTART:20090328T074500Z
DTEND:20090328T084500Z
SUMMARY:1. Alej FK B - Ivánkovy děti
LOCATION:DEKAN
UID:69e51160ac9a6@FC1869
END:VEVENT
END:VCALENDAR